BEGIN:VCALENDAR
VERSION:2.0
PRODID:-//Tukios.com/
BEGIN:VEVENT
UID:910e9237-e6aa-4ca2-a60b-fbc6f04eb62d@www.hughesmortuary.com
DTSTAMP:20260425T202500Z
DTSTART:20260502T190000Z
DTEND:20260502T200000Z
SUMMARY:Celebration of Life
DESCRIPTION:
URL:https://www.hughesmortuary.com/obituaries/madalene-munford
LOCATION:Church of Jesus Christ of Latter-day Saints 820 N Valley View Dr 
	 St. George UT 84770
GEO:37.1220138;-113.6039419
END:VEVENT
END:VCALENDAR